BEGIN:VCALENDAR
VERSION:2.0
PRODID:-//West Virginia Culture Center - ECPv6.15.17.1//NONSGML v1.0//EN
CALSCALE:GREGORIAN
METHOD:PUBLISH
X-WR-CALNAME:West Virginia Culture Center
X-ORIGINAL-URL:https://wvculture.org
X-WR-CALDESC:Events for West Virginia Culture Center
REFRESH-INTERVAL;VALUE=DURATION:PT1H
X-Robots-Tag:noindex
X-PUBLISHED-TTL:PT1H
BEGIN:VTIMEZONE
TZID:America/New_York
BEGIN:DAYLIGHT
TZOFFSETFROM:-0500
TZOFFSETTO:-0400
TZNAME:EDT
DTSTART:20210314T070000
END:DAYLIGHT
BEGIN:STANDARD
TZOFFSETFROM:-0400
TZOFFSETTO:-0500
TZNAME:EST
DTSTART:20211107T060000
END:STANDARD
BEGIN:DAYLIGHT
TZOFFSETFROM:-0500
TZOFFSETTO:-0400
TZNAME:EDT
DTSTART:20220313T070000
END:DAYLIGHT
BEGIN:STANDARD
TZOFFSETFROM:-0400
TZOFFSETTO:-0500
TZNAME:EST
DTSTART:20221106T060000
END:STANDARD
BEGIN:DAYLIGHT
TZOFFSETFROM:-0500
TZOFFSETTO:-0400
TZNAME:EDT
DTSTART:20230312T070000
END:DAYLIGHT
BEGIN:STANDARD
TZOFFSETFROM:-0400
TZOFFSETTO:-0500
TZNAME:EST
DTSTART:20231105T060000
END:STANDARD
END:VTIMEZONE
BEGIN:VEVENT
DTSTART;TZID=America/New_York:20220909T193000
DTEND;TZID=America/New_York:20220909T213000
DTSTAMP:20260421T235112
CREATED:20220823T145503Z
LAST-MODIFIED:20220823T145503Z
UID:6955-1662751800-1662759000@wvculture.org
SUMMARY:Greenbrier Valley Theatre's Midsummer’s Night
DESCRIPTION:What happens when Puck and a band of mischievous fairies are tasked with understanding human love? An innovative\, magical and bold world premiere production! This original story explores the humor\, frivolity and truthfulness of the greatest human condition. Adapted from Shakespeare’s greatest plays\, it is chock-full of recognizable text\, famous lovers and creativity. This production promises to satisfy Shakespeare newbies and connoisseurs alike.
URL:https://wvculture.org/event/greenbrier-valley-theatres-midsummers-night/
CATEGORIES:Arts,Culture
ATTACH;FMTTYPE=image/png:https://wvculture.org/wp-content/uploads/2022/08/Midsummer.png
END:VEVENT
BEGIN:VEVENT
DTSTART;TZID=America/New_York:20220917T120000
DTEND;TZID=America/New_York:20220917T160000
DTSTAMP:20260421T235112
CREATED:20220823T140830Z
LAST-MODIFIED:20220823T150400Z
UID:7026-1663416000-1663430400@wvculture.org
SUMMARY:Fossil Day
DESCRIPTION:Join us for one of our biggest events of the year – Fossil Day. We will be offering fossil identification by Dr. Ronald McDowell of the West Virginia Geological and Economic Survey as well as a lecture at 2 p.m. by Ray Garton of Prehistoric Planet on the fossils of West Virginia. We will also be featuring a mini museum outreach display from the Carnegie Museum of Natural History. 
URL:https://wvculture.org/event/fossil-day/
LOCATION:Grave Creek Mound\, 801 Jefferson Ave\, Moundsville\, WV\, 26041\, United States
ATTACH;FMTTYPE=application/pdf:https://wvculture.org/wp-content/uploads/2022/08/2022-Fall-Fossil-Day-flyer-pdf.pdf
END:VEVENT
BEGIN:VEVENT
DTSTART;TZID=America/New_York:20220929T190000
DTEND;TZID=America/New_York:20220929T190000
DTSTAMP:20260421T235112
CREATED:20220928T115052Z
LAST-MODIFIED:20220928T115052Z
UID:7175-1664478000-1664478000@wvculture.org
SUMMARY:Professor Philip Fitzgibbons to Present “The ASA Hill Site Revisited: A Review of Prehistoric Site Function and Lithic Technology Across Time and Place” at Grave Creek Mound Archaeological Complex
DESCRIPTION:MOUNDSVILLE\, W.Va. — Grave Creek Mound Archaeological Complex kicks off its Fall Lecture Series with a discussion of the Asa Hill site presented by Professor Philip Fitzgibbons\, director of the Archaeology Field Program at the History and Anthropology Department at Franciscan University of Steubenville\, Ohio. The program\, “The ASA Hill Site Revisited: A Review of Prehistoric Site Function and Lithic Technology Across Time and Place\,” starts at 7 p.m. on Thursday\, Sept. 29\, and is free and open to the public.
URL:https://wvculture.org/event/professor-philip-fitzgibbons-to-present-the-asa-hill-site-revisited-a-review-of-prehistoric-site-function-and-lithic-technology-across-time-and-place-at-grave-creek-mound-archaeolog/
END:VEVENT
END:VCALENDAR