BEGIN:VCALENDAR
VERSION:2.0
PRODID:-//West Virginia Culture Center - ECPv6.15.17.1//NONSGML v1.0//EN
CALSCALE:GREGORIAN
METHOD:PUBLISH
X-WR-CALNAME:West Virginia Culture Center
X-ORIGINAL-URL:https://wvculture.org
X-WR-CALDESC:Events for West Virginia Culture Center
REFRESH-INTERVAL;VALUE=DURATION:PT1H
X-Robots-Tag:noindex
X-PUBLISHED-TTL:PT1H
BEGIN:VTIMEZONE
TZID:America/New_York
BEGIN:DAYLIGHT
TZOFFSETFROM:-0500
TZOFFSETTO:-0400
TZNAME:EDT
DTSTART:20250309T070000
END:DAYLIGHT
BEGIN:STANDARD
TZOFFSETFROM:-0400
TZOFFSETTO:-0500
TZNAME:EST
DTSTART:20251102T060000
END:STANDARD
BEGIN:DAYLIGHT
TZOFFSETFROM:-0500
TZOFFSETTO:-0400
TZNAME:EDT
DTSTART:20260308T070000
END:DAYLIGHT
BEGIN:STANDARD
TZOFFSETFROM:-0400
TZOFFSETTO:-0500
TZNAME:EST
DTSTART:20261101T060000
END:STANDARD
BEGIN:DAYLIGHT
TZOFFSETFROM:-0500
TZOFFSETTO:-0400
TZNAME:EDT
DTSTART:20270314T070000
END:DAYLIGHT
BEGIN:STANDARD
TZOFFSETFROM:-0400
TZOFFSETTO:-0500
TZNAME:EST
DTSTART:20271107T060000
END:STANDARD
END:VTIMEZONE
BEGIN:VEVENT
DTSTART;TZID=America/New_York:20260222T130000
DTEND;TZID=America/New_York:20260222T160000
DTSTAMP:20260421T105301
CREATED:20251119T174927Z
LAST-MODIFIED:20251119T174928Z
UID:115499-1771765200-1771776000@wvculture.org
SUMMARY:Puzzle Mania
DESCRIPTION:10th Annual Puzzle Mania\n\nPut together a group of up to four people and join us for a fun event in February. What could be better than some rollicking fun on a Sunday afternoon?\n\nEach team will start with the same 500-piece jigsaw puzzle and battle with others to see which team completes theirs first.\n\nTeams can go ‘next level’ by choosing a 750-piece puzzle!\n\nHilarious challenges and antics will abound!\n\nPerfect for Ages 10 and up.\n\nLight Refreshments for Sale\n\nTickets on Sale Now\, Space is Limited\n\nTickets and Info: www.friendswv.org\n\nShepherd University Wellness Center\, Sunday February 22\, 2026 1-4 pm\n\n$100/team or $25 single players\n\nAll proceeds benefit Friends of Music
URL:https://wvculture.org/event/puzzle-mania/
LOCATION:Shepherd University Wellness Center\, Shepherd University\, 164 University Dr\, Shepherdstown\, WV\, 25443\, United States
CATEGORIES:Arts,Community
ATTACH;FMTTYPE=image/jpeg:https://wvculture.org/wp-content/uploads/2025/10/IMG_7164.jpg
ORGANIZER;CN="Friends of Music%2C Inc.":MAILTO:info@friendswv.org
END:VEVENT
BEGIN:VEVENT
DTSTART;TZID=America/New_York:20260303T190000
DTEND;TZID=America/New_York:20260303T203000
DTSTAMP:20260421T105301
CREATED:20260313T143327Z
LAST-MODIFIED:20260313T143328Z
UID:148023-1772564400-1772569800@wvculture.org
SUMMARY:Vienna Boys Choir at the Robinson Grand
DESCRIPTION:Experience the voices that have captivated emperors\, presidents\, and audiences across the globe for over 500 years. The world-renowned Vienna Boys Choir brings their angelic harmonies and distinctive charm to Clarksburg for one night only.\n\nRenowned as one of the finest vocal ensembles in the world\, the choir—specifically the touring Mozart choir under the direction of conductor Manuel Huber—will perform a breathtaking repertoire that spans the ages. From medieval masterpieces and classical treasures by Mozart and Schubert to spirited Austrian folk songs and contemporary world hits\, this concert promises a journey through the heart of musical history.\n\nWitness the “crystalline sound” and “purity of tone” that led UNESCO to recognize their tradition as part of the intangible cultural heritage of humanity. This is more than a concert; it is a rare opportunity to hear the living legacy of the Imperial Chapel in the acoustic splendor of the Robinson Grand.\n\nThe Vienna Boys Choir is proudly presented by the Cultural Foundation of Harrison County with the support of the Barbara B. Highland Fund for the Arts.
URL:https://wvculture.org/event/vienna-boys-choir-at-the-robinson-grand/
LOCATION:Robinson Grand Performing Arts Center\, 444 W Pike St\, Clarksburg\, West Virginia\, 26301\, United States
CATEGORIES:Arts,Community
ATTACH;FMTTYPE=image/jpeg:https://wvculture.org/wp-content/uploads/2026/02/Vienna-Boys-Choir-1080x1080_clean.jpg
END:VEVENT
BEGIN:VEVENT
DTSTART;TZID=America/New_York:20260404T180000
DTEND;TZID=America/New_York:20260404T210000
DTSTAMP:20260421T105301
CREATED:20260313T143405Z
LAST-MODIFIED:20260313T143406Z
UID:148303-1775325600-1775336400@wvculture.org
SUMMARY:Capon Bridge Square Dance
DESCRIPTION:Caller: Janine SmithBand: The JAES with Janie Rothfield (fiddle/banjo)\, Allan Carr (guitar)\, Ellen Coplin (cello) and Sean Hoffman (fiddle)\n\nNo experience necessary. All dances will be taught.Come alone or bring a friend to enjoy this community event.Wear clothes and shoes you feel comfortable moving in and bring a bottle of water to stay hydrated.\n\n4-5PM | Kids Barn Dance5:30-6pm | New dancers crash course to square dancing6-9PM | Square Dance (THE MAIN EVENT)\n\nFREE | Suggested Donation $10-1517 yrs and under always free\nNo food or drink served\, but you are welcome to bring your own picnic dinner or support a local business in town_____________________________________Come early for the…\nKIDS BARN DANCE4-5PM || FREEFun for the whole family!Little feet welcome.
URL:https://wvculture.org/event/capon-bridge-square-dance-4/
LOCATION:Capon Bridge Volunteer Fire Department\, Northwestern Turnpike 2775\, Capon Bridge\, WV\, 26711\, United States
CATEGORIES:Community
ATTACH;FMTTYPE=image/jpeg:https://wvculture.org/wp-content/uploads/2026/02/20231216-DSC_2736-Lower-Res.jpg
ORGANIZER;CN="Cacapon Music and Dance Foundation":MAILTO:admin@cacaponmusicanddance.org
END:VEVENT
BEGIN:VEVENT
DTSTART;TZID=America/New_York:20260530T000000
DTEND;TZID=America/New_York:20260531T235959
DTSTAMP:20260421T105301
CREATED:20260313T143349Z
LAST-MODIFIED:20260313T143350Z
UID:148227-1780099200-1780271999@wvculture.org
SUMMARY:Morgantown Crankie Festival
DESCRIPTION:Monongalia Arts Center (MAC)107 High Street\, Morgantown\, WV \nThe Morgantown Crankie Festival is a new\, community-centered celebration of crankies — handmade scrolling artworks performed live with music\, poetry\, and story. \nA crankie (sometimes called a moving panorama) is a low-tech storytelling form with deep roots in folk traditions around the world. Images are painted\, printed\, cut\, or sewn onto a long scroll and wound between two spools inside a small “theater.” As the performer turns a crank\, the images move across the screen\, revealing a story over time. Crankies combine visual art\, music\, and narrative into an intimate\, collaborative performance experience. \nThe Morgantown Crankie Festival celebrates crankies as both an art form and a community practice — where visual artists\, musicians\, poets\, storytellers\, and tradition-bearers come together to make something magical with simple materials. \n\nWhat to Expect\nThe weekend will feature: \n\n\n 	\nMultiple public crankie performances \n\n 	\nA mix of locally-made crankies and visiting guest artists \n\n 	\nInterdisciplinary collaborations between musicians and visual storytellers \n\n 	\nCrankie-making workshops and informal gatherings in the MAC maker space \n\n\nPerformances will take place Saturday evening and Sunday afternoon and evening\, with additional events leading up to the festival. \n\nA Season of Crankies\nMorgantown Crankie Fest isn’t just a weekend — it’s a season of activity designed to build local participation and excitement: \n\n\n 	\nCrankies at First Friday (April 3\, 2026) — An early festival preview at the MAC. \n\n 	\nLiterary + Crankie Night (April 9\, 2026) — Featuring published authors and artists whose work intersects with visual storytelling and song. \n\n 	\nCommunity crankie-making sessions — Informal gatherings for artists and curious newcomers to work on their own crankies together. \n\n\nNo prior experience is required to participate. The festival invites anyone interested in folk traditions\, storytelling\, music\, visual art\, or community-based creativity to join in. \n\nFeatured Artists (Partial List)\nArtists joining us include creators from West Virginia and beyond\, including performers from Morgantown\, Elkins\, Pittsburgh\, Detroit\, Washington DC\, Pennsylvania\, and Wales. The festival highlights both emerging local artists and established crankie-makers working nationally and internationally. \nA full schedule\, artist lineup\, and ticket information will be announced closer to the festival. \n\nAbout the Organizer\nThe Morgantown Crankie Festival is organized by Annick Odom\, a Morgantown-based performer\, composer\, and community artist whose work bridges Appalachian folk traditions\, storytelling\, and contemporary performance. Annick has participated in crankie and cantastoria events across the United States and internationally\, and is committed to building spaces where traditional arts and experimental practices can meet.
URL:https://wvculture.org/event/morgantown-crankie-festival/
LOCATION:Monongalia Arts Center\, ​107 High Street\, Morgantown\, WV\, 26505\, United States
CATEGORIES:Arts,Community
ATTACH;FMTTYPE=image/jpeg:https://wvculture.org/wp-content/uploads/2026/02/613180133_10173338679885006_8801599117075386937_n.jpg
END:VEVENT
BEGIN:VEVENT
DTSTART;TZID=America/New_York:20260620T000000
DTEND;TZID=America/New_York:20260627T235959
DTSTAMP:20260421T105301
CREATED:20260313T143443Z
LAST-MODIFIED:20260313T143444Z
UID:148455-1781913600-1782604799@wvculture.org
SUMMARY:2026 Freedom Fun Run 5K
DESCRIPTION:Jan Dils\, Attorneys at Law\, is thrilled to once again host the 2026 Freedom Fun Run 5K—with both in-person and virtual options!\n\nBe part of the action on June 27 in Parkersburg\, WV\, or participate virtually from June 20–26. Your participation fuels fun\, fitness\, and community\, and 100% of proceeds benefit Veterans-related programs.\n\nAll are welcome to join—run or walk\, any pace! Enjoy refreshments\, entertainment\, and awards on race day as we celebrate our amazing participants.\n\nVisit our event webpage to learn more.
URL:https://wvculture.org/event/2026-freedom-fun-run-5k/
LOCATION:West Virginia
CATEGORIES:Community
ATTACH;FMTTYPE=image/png:https://wvculture.org/wp-content/uploads/2026/03/Screenshot-from-2026-03-12-11-56-58.png
END:VEVENT
BEGIN:VEVENT
DTSTART;TZID=America/New_York:20260918T150000
DTEND;TZID=America/New_York:20260920T170000
DTSTAMP:20260421T105301
CREATED:20260313T143254Z
LAST-MODIFIED:20260313T143255Z
UID:147904-1789743600-1789923600@wvculture.org
SUMMARY:WV Country Roads Festival
DESCRIPTION:The mission of the WV Country Roads Festival is to celebrate\, preserve\, and promote the history\, agriculture\, and cultural heritage of West Virginia by providing a safe\, educational\, and family‑friendly environment for community members of all ages. The festival is dedicated to strengthening the local community by offering affordable\, inclusive entertainment\, showcasing local entrepreneurs\, vendors\, and talent\, and creating meaningful opportunities for families to connect\, learn\, and enjoy the traditions that define the region. \n \nThrough a diverse blend of cultural programming\, agricultural demonstrations\, youth activities\, and collaborative partnerships\, the WV Country Roads Festival serves as a vital community gathering place that fosters community pride\, cultural appreciation\, and economic support for local businesses
URL:https://wvculture.org/event/wv-country-roads-festival-3/
LOCATION:Wetzel County 4H Camp\, 61 4H Camp Road\, New Martinsville\, WV\, 26155\, United States
CATEGORIES:Arts,Community,History
ATTACH;FMTTYPE=image/jpeg:https://wvculture.org/wp-content/uploads/2026/01/WVCRF-New-Logo-Blue-and-Gold-With-Red-Star.jpg
ORGANIZER;CN="WV Country Roads Festival":MAILTO:wvcountryroadsfestival@yahoo.com
END:VEVENT
END:VCALENDAR