BEGIN:VCALENDAR
VERSION:2.0
PRODID:-//West Virginia Culture Center - ECPv6.15.17.1//NONSGML v1.0//EN
CALSCALE:GREGORIAN
METHOD:PUBLISH
X-ORIGINAL-URL:https://wvculture.org
X-WR-CALDESC:Events for West Virginia Culture Center
REFRESH-INTERVAL;VALUE=DURATION:PT1H
X-Robots-Tag:noindex
X-PUBLISHED-TTL:PT1H
BEGIN:VTIMEZONE
TZID:America/New_York
BEGIN:DAYLIGHT
TZOFFSETFROM:-0500
TZOFFSETTO:-0400
TZNAME:EDT
DTSTART:20250309T070000
END:DAYLIGHT
BEGIN:STANDARD
TZOFFSETFROM:-0400
TZOFFSETTO:-0500
TZNAME:EST
DTSTART:20251102T060000
END:STANDARD
BEGIN:DAYLIGHT
TZOFFSETFROM:-0500
TZOFFSETTO:-0400
TZNAME:EDT
DTSTART:20260308T070000
END:DAYLIGHT
BEGIN:STANDARD
TZOFFSETFROM:-0400
TZOFFSETTO:-0500
TZNAME:EST
DTSTART:20261101T060000
END:STANDARD
BEGIN:DAYLIGHT
TZOFFSETFROM:-0500
TZOFFSETTO:-0400
TZNAME:EDT
DTSTART:20270314T070000
END:DAYLIGHT
BEGIN:STANDARD
TZOFFSETFROM:-0400
TZOFFSETTO:-0500
TZNAME:EST
DTSTART:20271107T060000
END:STANDARD
END:VTIMEZONE
BEGIN:VEVENT
DTSTART;TZID=America/New_York:20260303T190000
DTEND;TZID=America/New_York:20260303T203000
DTSTAMP:20260420T172606
CREATED:20260313T143327Z
LAST-MODIFIED:20260313T143328Z
UID:148023-1772564400-1772569800@wvculture.org
SUMMARY:Vienna Boys Choir at the Robinson Grand
DESCRIPTION:Experience the voices that have captivated emperors\, presidents\, and audiences across the globe for over 500 years. The world-renowned Vienna Boys Choir brings their angelic harmonies and distinctive charm to Clarksburg for one night only.\n\nRenowned as one of the finest vocal ensembles in the world\, the choir—specifically the touring Mozart choir under the direction of conductor Manuel Huber—will perform a breathtaking repertoire that spans the ages. From medieval masterpieces and classical treasures by Mozart and Schubert to spirited Austrian folk songs and contemporary world hits\, this concert promises a journey through the heart of musical history.\n\nWitness the “crystalline sound” and “purity of tone” that led UNESCO to recognize their tradition as part of the intangible cultural heritage of humanity. This is more than a concert; it is a rare opportunity to hear the living legacy of the Imperial Chapel in the acoustic splendor of the Robinson Grand.\n\nThe Vienna Boys Choir is proudly presented by the Cultural Foundation of Harrison County with the support of the Barbara B. Highland Fund for the Arts.
URL:https://wvculture.org/event/vienna-boys-choir-at-the-robinson-grand/
LOCATION:Robinson Grand Performing Arts Center\, 444 W Pike St\, Clarksburg\, West Virginia\, 26301\, United States
CATEGORIES:Arts,Community
ATTACH;FMTTYPE=image/jpeg:https://wvculture.org/wp-content/uploads/2026/02/Vienna-Boys-Choir-1080x1080_clean.jpg
END:VEVENT
END:VCALENDAR