BEGIN:VCALENDAR
VERSION:2.0
PRODID:-//West Virginia Culture Center - ECPv6.15.17.1//NONSGML v1.0//EN
CALSCALE:GREGORIAN
METHOD:PUBLISH
X-ORIGINAL-URL:https://wvculture.org
X-WR-CALDESC:Events for West Virginia Culture Center
REFRESH-INTERVAL;VALUE=DURATION:PT1H
X-Robots-Tag:noindex
X-PUBLISHED-TTL:PT1H
BEGIN:VTIMEZONE
TZID:America/New_York
BEGIN:DAYLIGHT
TZOFFSETFROM:-0500
TZOFFSETTO:-0400
TZNAME:EDT
DTSTART:20250309T070000
END:DAYLIGHT
BEGIN:STANDARD
TZOFFSETFROM:-0400
TZOFFSETTO:-0500
TZNAME:EST
DTSTART:20251102T060000
END:STANDARD
BEGIN:DAYLIGHT
TZOFFSETFROM:-0500
TZOFFSETTO:-0400
TZNAME:EDT
DTSTART:20260308T070000
END:DAYLIGHT
BEGIN:STANDARD
TZOFFSETFROM:-0400
TZOFFSETTO:-0500
TZNAME:EST
DTSTART:20261101T060000
END:STANDARD
BEGIN:DAYLIGHT
TZOFFSETFROM:-0500
TZOFFSETTO:-0400
TZNAME:EDT
DTSTART:20270314T070000
END:DAYLIGHT
BEGIN:STANDARD
TZOFFSETFROM:-0400
TZOFFSETTO:-0500
TZNAME:EST
DTSTART:20271107T060000
END:STANDARD
END:VTIMEZONE
BEGIN:VEVENT
DTSTART;TZID=America/New_York:20260202T000000
DTEND;TZID=America/New_York:20260228T235959
DTSTAMP:20260419T083548
CREATED:20251119T175135Z
LAST-MODIFIED:20251119T175135Z
UID:115918-1769990400-1772323199@wvculture.org
SUMMARY:Artworks Around Town - Faux Bot/Junk Art Show
DESCRIPTION:Join us in the Gallery at Artworks Around Town in February 2026 for the Faux Bot/Junk Art Show.  Whimsical\, non-functional creations made from found or recycled objects.  Creations for sale are intended to be humorous and charming. Gallery hours Mon-Sat 10:00 am to 5:30 pm. Phone 304-233-7540
URL:https://wvculture.org/event/artworks-around-town-faux-bot-junk-art-show/
LOCATION:Artworks Around Town Gallery and Art Center\, Market Street 2200\, Wheeling\, WV\, 26003\, United States
CATEGORIES:Arts
ATTACH;FMTTYPE=image/jpeg:https://wvculture.org/wp-content/uploads/2025/11/IMG_0949-scaled.jpeg
END:VEVENT
BEGIN:VEVENT
DTSTART;TZID=America/New_York:20260222T130000
DTEND;TZID=America/New_York:20260222T160000
DTSTAMP:20260419T083548
CREATED:20251119T174927Z
LAST-MODIFIED:20251119T174928Z
UID:115499-1771765200-1771776000@wvculture.org
SUMMARY:Puzzle Mania
DESCRIPTION:10th Annual Puzzle Mania\n\nPut together a group of up to four people and join us for a fun event in February. What could be better than some rollicking fun on a Sunday afternoon?\n\nEach team will start with the same 500-piece jigsaw puzzle and battle with others to see which team completes theirs first.\n\nTeams can go ‘next level’ by choosing a 750-piece puzzle!\n\nHilarious challenges and antics will abound!\n\nPerfect for Ages 10 and up.\n\nLight Refreshments for Sale\n\nTickets on Sale Now\, Space is Limited\n\nTickets and Info: www.friendswv.org\n\nShepherd University Wellness Center\, Sunday February 22\, 2026 1-4 pm\n\n$100/team or $25 single players\n\nAll proceeds benefit Friends of Music
URL:https://wvculture.org/event/puzzle-mania/
LOCATION:Shepherd University Wellness Center\, Shepherd University\, 164 University Dr\, Shepherdstown\, WV\, 25443\, United States
CATEGORIES:Arts,Community
ATTACH;FMTTYPE=image/jpeg:https://wvculture.org/wp-content/uploads/2025/10/IMG_7164.jpg
ORGANIZER;CN="Friends of Music%2C Inc.":MAILTO:info@friendswv.org
END:VEVENT
BEGIN:VEVENT
DTSTART;TZID=America/New_York:20260227T193000
DTEND;TZID=America/New_York:20260227T213000
DTSTAMP:20260419T083548
CREATED:20250813T170811Z
LAST-MODIFIED:20250813T170812Z
UID:114485-1772220600-1772227800@wvculture.org
SUMMARY:TRADITION / INNOVATION
DESCRIPTION:As winter turns to spring\, we invite you to experience TRADITION / INNOVATION\, an exhilarating mixed repertory program that reflects our company’s artistic journey. This performance pairs timeless classical storytelling with fresh\, contemporary works\, highlighting the versatility of our dancers and the bold evolution of our creative vision.
URL:https://wvculture.org/event/tradition-innovation/
LOCATION:Charleston Coliseum & Convention Center\, Quarrier Street\, Charleston\, WV\, 25301\, United States
CATEGORIES:Arts
ATTACH;FMTTYPE=image/png:https://wvculture.org/wp-content/uploads/2025/08/TraditionInnovation-55-LCD-Horizontal-1920px-1080-px-1080-x-1080-px.png
ORGANIZER;CN="Charleston Ballet":MAILTO:staff@thecharlestonballet.com
END:VEVENT
BEGIN:VEVENT
DTSTART;TZID=America/New_York:20260228T193000
DTEND;TZID=America/New_York:20260228T213000
DTSTAMP:20260419T083548
CREATED:20250813T170844Z
LAST-MODIFIED:20250813T170845Z
UID:114492-1772307000-1772314200@wvculture.org
SUMMARY:TRADITION / INNOVATION
DESCRIPTION:As winter turns to spring\, we invite you to experience TRADITION / INNOVATION\, an exhilarating mixed repertory program that reflects our company’s artistic journey. This performance pairs timeless classical storytelling with fresh\, contemporary works\, highlighting the versatility of our dancers and the bold evolution of our creative vision.
URL:https://wvculture.org/event/tradition-innovation-2/
LOCATION:Charleston Coliseum & Convention Center\, Quarrier Street\, Charleston\, WV\, 25301\, United States
CATEGORIES:Arts
ATTACH;FMTTYPE=image/png:https://wvculture.org/wp-content/uploads/2025/08/TraditionInnovation-55-LCD-Horizontal-1920px-1080-px-1080-x-1080-px-1.png
ORGANIZER;CN="Charleston Ballet":MAILTO:staff@thecharlestonballet.com
END:VEVENT
END:VCALENDAR