BEGIN:VCALENDAR
VERSION:2.0
PRODID:-//West Virginia Culture Center - ECPv6.15.17.1//NONSGML v1.0//EN
CALSCALE:GREGORIAN
METHOD:PUBLISH
X-WR-CALNAME:West Virginia Culture Center
X-ORIGINAL-URL:https://wvculture.org
X-WR-CALDESC:Events for West Virginia Culture Center
REFRESH-INTERVAL;VALUE=DURATION:PT1H
X-Robots-Tag:noindex
X-PUBLISHED-TTL:PT1H
BEGIN:VTIMEZONE
TZID:America/New_York
BEGIN:DAYLIGHT
TZOFFSETFROM:-0500
TZOFFSETTO:-0400
TZNAME:EDT
DTSTART:20240310T070000
END:DAYLIGHT
BEGIN:STANDARD
TZOFFSETFROM:-0400
TZOFFSETTO:-0500
TZNAME:EST
DTSTART:20241103T060000
END:STANDARD
BEGIN:DAYLIGHT
TZOFFSETFROM:-0500
TZOFFSETTO:-0400
TZNAME:EDT
DTSTART:20250309T070000
END:DAYLIGHT
BEGIN:STANDARD
TZOFFSETFROM:-0400
TZOFFSETTO:-0500
TZNAME:EST
DTSTART:20251102T060000
END:STANDARD
BEGIN:DAYLIGHT
TZOFFSETFROM:-0500
TZOFFSETTO:-0400
TZNAME:EDT
DTSTART:20260308T070000
END:DAYLIGHT
BEGIN:STANDARD
TZOFFSETFROM:-0400
TZOFFSETTO:-0500
TZNAME:EST
DTSTART:20261101T060000
END:STANDARD
END:VTIMEZONE
BEGIN:VEVENT
DTSTART;TZID=America/New_York:20251017T193000
DTEND;TZID=America/New_York:20251017T213000
DTSTAMP:20260422T105950
CREATED:20250502T165419Z
LAST-MODIFIED:20250502T165420Z
UID:112995-1760729400-1760736600@wvculture.org
SUMMARY:Vitamin String Quartet: The Music of Taylor Swift\, Bridgerton\, and Beyond
DESCRIPTION:Long before Bridgerton broke the Netflix algorithm\, Vitamin String Quartet (VSQ) had helped establish classical crossover as a genuine force in contemporary music. Fresh off high-profile placements in Seasons 1 and 2 of the aforementioned streaming smash\, VSQ has “reached a mainstream\, global audience” (Variety) and “charmed the world with their classical covers” (Nylon). New York Observer wrote\, “VSQ’s atmospheric hits have made classical versions of pop music cool.” On their latest tour\, VSQ have created fresh arrangements of the cultural phenomenon that is Taylor Swift\, performing spellbinding and innovative renditions of Swift’s music\, alongside familiar hits from Billie Eilish\, BTS\, Bridgerton\, The Weeknd to Daft Punk. VSQ are one of the most popular string ensembles in the world with over 2 billion streams and seven albums charting on both Billboard Classical and Classical Crossover charts.
URL:https://wvculture.org/event/vitamin-string-quartet-the-music-of-taylor-swift-bridgerton-and-beyond/
LOCATION:Clay Center for the Arts and Sciences of West Virginia\, 1 Clay Square\, Charleston\, 25301\, United States
ATTACH;FMTTYPE=image/png:https://wvculture.org/wp-content/uploads/2025/05/vsq-fall2025-169-local-admat.png
END:VEVENT
BEGIN:VEVENT
DTSTART;TZID=America/New_York:20251017T193000
DTEND;TZID=America/New_York:20251017T203000
DTSTAMP:20260422T105950
CREATED:20250813T170631Z
LAST-MODIFIED:20250813T170631Z
UID:114460-1760729400-1760733000@wvculture.org
SUMMARY:DRACULA: THE SEDUCTION
DESCRIPTION:Lose yourself in a dark and seductive world where passion meets the supernatural. Set to a spine-tingling score by Emmy Award-winning composer Anthony DiLorenzo\, this electrifying ballet plunges into the tale of Miranda\, a fiery gypsy maiden drawn into the deadly allure of Dracula. Featuring a cast of mesmerizing vampires\, fierce gypsies\, and Dracula’s haunting brides\, this gothic spectacle is a full-throttle feast for the senses you won’t forget.
URL:https://wvculture.org/event/dracula-the-seduction/
LOCATION:Charleston Coliseum & Convention Center\, Quarrier Street\, Charleston\, WV\, 25301\, United States
CATEGORIES:Arts
ATTACH;FMTTYPE=image/png:https://wvculture.org/wp-content/uploads/2025/08/2025-DRACULA-THE-SEDUCTION-Quarrier-Street-375-x-240-px.png
ORGANIZER;CN="Charleston Ballet":MAILTO:staff@thecharlestonballet.com
END:VEVENT
END:VCALENDAR