BEGIN:VCALENDAR
VERSION:2.0
PRODID:-//West Virginia Culture Center - ECPv6.15.17.1//NONSGML v1.0//EN
CALSCALE:GREGORIAN
METHOD:PUBLISH
X-WR-CALNAME:West Virginia Culture Center
X-ORIGINAL-URL:https://wvculture.org
X-WR-CALDESC:Events for West Virginia Culture Center
REFRESH-INTERVAL;VALUE=DURATION:PT1H
X-Robots-Tag:noindex
X-PUBLISHED-TTL:PT1H
BEGIN:VTIMEZONE
TZID:America/New_York
BEGIN:DAYLIGHT
TZOFFSETFROM:-0500
TZOFFSETTO:-0400
TZNAME:EDT
DTSTART:20240310T070000
END:DAYLIGHT
BEGIN:STANDARD
TZOFFSETFROM:-0400
TZOFFSETTO:-0500
TZNAME:EST
DTSTART:20241103T060000
END:STANDARD
BEGIN:DAYLIGHT
TZOFFSETFROM:-0500
TZOFFSETTO:-0400
TZNAME:EDT
DTSTART:20250309T070000
END:DAYLIGHT
BEGIN:STANDARD
TZOFFSETFROM:-0400
TZOFFSETTO:-0500
TZNAME:EST
DTSTART:20251102T060000
END:STANDARD
BEGIN:DAYLIGHT
TZOFFSETFROM:-0500
TZOFFSETTO:-0400
TZNAME:EDT
DTSTART:20260308T070000
END:DAYLIGHT
BEGIN:STANDARD
TZOFFSETFROM:-0400
TZOFFSETTO:-0500
TZNAME:EST
DTSTART:20261101T060000
END:STANDARD
END:VTIMEZONE
BEGIN:VEVENT
DTSTART;TZID=America/New_York:20250817T150000
DTEND;TZID=America/New_York:20250817T160000
DTSTAMP:20260421T094241
CREATED:20250813T170437Z
LAST-MODIFIED:20250813T170438Z
UID:114125-1755442800-1755446400@wvculture.org
SUMMARY:Festival Finale: History\, Nature\, Culture
DESCRIPTION: \n\nUnwind and celebrate the magic of music together at ACMF’s vibrant outdoor finale in a stunning historic setting! Bring your family and friends and join us on the back lawn of Happy Retreat to celebrate the end of our 5th season! This casual\, family-friendly\, one-hour concert has something for everyone and is the perfect way relax and enjoy a summer afternoon. https://www.appalachianchamber.org/2025-festival-schedule\n\n 
URL:https://wvculture.org/event/festival-finale-history-nature-culture/
LOCATION:Happy Retreat\, Mordington Avenue 600\, Charles Town\, WV\, 25414\, United States
CATEGORIES:Arts
ATTACH;FMTTYPE=image/jpeg:https://wvculture.org/wp-content/uploads/2025/07/Happy-Retreat.jpg
ORGANIZER;CN="Appalachian Chamber Music Festival":MAILTO:info@appalachianchamber.org
END:VEVENT
END:VCALENDAR