BEGIN:VCALENDAR
VERSION:2.0
PRODID:-//West Virginia Culture Center - ECPv6.15.17.1//NONSGML v1.0//EN
CALSCALE:GREGORIAN
METHOD:PUBLISH
X-ORIGINAL-URL:https://wvculture.org
X-WR-CALDESC:Events for West Virginia Culture Center
REFRESH-INTERVAL;VALUE=DURATION:PT1H
X-Robots-Tag:noindex
X-PUBLISHED-TTL:PT1H
BEGIN:VTIMEZONE
TZID:America/New_York
BEGIN:DAYLIGHT
TZOFFSETFROM:-0500
TZOFFSETTO:-0400
TZNAME:EDT
DTSTART:20240310T070000
END:DAYLIGHT
BEGIN:STANDARD
TZOFFSETFROM:-0400
TZOFFSETTO:-0500
TZNAME:EST
DTSTART:20241103T060000
END:STANDARD
BEGIN:DAYLIGHT
TZOFFSETFROM:-0500
TZOFFSETTO:-0400
TZNAME:EDT
DTSTART:20250309T070000
END:DAYLIGHT
BEGIN:STANDARD
TZOFFSETFROM:-0400
TZOFFSETTO:-0500
TZNAME:EST
DTSTART:20251102T060000
END:STANDARD
BEGIN:DAYLIGHT
TZOFFSETFROM:-0500
TZOFFSETTO:-0400
TZNAME:EDT
DTSTART:20260308T070000
END:DAYLIGHT
BEGIN:STANDARD
TZOFFSETFROM:-0400
TZOFFSETTO:-0500
TZNAME:EST
DTSTART:20261101T060000
END:STANDARD
END:VTIMEZONE
BEGIN:VEVENT
DTSTART;TZID=America/New_York:20250509T193000
DTEND;TZID=America/New_York:20250509T213000
DTSTAMP:20260420T113618
CREATED:20250226T151006Z
LAST-MODIFIED:20250417T141121Z
UID:80145-1746819000-1746826200@wvculture.org
SUMMARY:Pat Benatar & Neil Giraldo with The Vindys
DESCRIPTION:Legends Pat Benatar & Neil Giraldo are live at the Clay Center! \n\n\n\nIn a pop culture world defined by its perpetual changes\, the partnership of singer songwriter Pat Benatar and producer-musician Neil Giraldo has been a potent\, steadfast union that has soared to the top of the charts and into fans’ hearts on their own terms. Her staggering vocals and take-no-prisoners attitude\, along with his trailblazing artistry as a guitarist\, producer and songwriter\, forged the undeniable chemistry and unique sound that created eternal rock hits including “We Belong\,” “Invincible\,” “Love Is A Battlefield\,” “Promises In The Dark\,” “We Live For Love\,” “Heartbreaker” and “Hell Is For Children.” \n\n\n\nTheir stunning achievements are a testament to their vision. Together\, Benatar and Giraldo have created two multi-platinum\, five platinum and three gold albums\, as well as 19 Top 40 hits. They have sold over 36 million records worldwide and have won an unprecedented four consecutive GRAMMY® awards. They have also been feted with three American Music Awards\, a People’s Choice Award\, a 2008 induction into the Long Island Music Hall of Fame\, and most recently have become Rock & Roll Hall of Fame inductees. \n\n\n\nBenatar and Giraldo’s performance will be supported by The Vindy’s\, a band hailing from Ohio who captivates audiences with their signature blend of rock\, soul\, and pop. The Vindy’s have been making waves nationally\, lighting up major festival stages and opening for legends like Pat Benatar and Neil Giraldo\, ZZ Top\, Marcus King\, Beth Hart\, and Ann Wilson. \n\n\n\nTwo VIP ticket packages will be available for purchase—the Soundcheck Package and the VIP Tour Package.
URL:https://wvculture.org/event/pat-benatar-neil-giraldo-with-the-vindys/
LOCATION:Clay Center for the Arts and Sciences of West Virginia\, 1 Clay Square\, Charleston\, 25301\, United States
ATTACH;FMTTYPE=image/png:https://wvculture.org/wp-content/uploads/2025/02/PatBenatar_NeilGiraldo_TV_1080x1080.png
END:VEVENT
END:VCALENDAR