BEGIN:VCALENDAR
VERSION:2.0
PRODID:-//West Virginia Culture Center - ECPv6.15.17.1//NONSGML v1.0//EN
CALSCALE:GREGORIAN
METHOD:PUBLISH
X-ORIGINAL-URL:https://wvculture.org
X-WR-CALDESC:Events for West Virginia Culture Center
REFRESH-INTERVAL;VALUE=DURATION:PT1H
X-Robots-Tag:noindex
X-PUBLISHED-TTL:PT1H
BEGIN:VTIMEZONE
TZID:America/New_York
BEGIN:DAYLIGHT
TZOFFSETFROM:-0500
TZOFFSETTO:-0400
TZNAME:EDT
DTSTART:20230312T070000
END:DAYLIGHT
BEGIN:STANDARD
TZOFFSETFROM:-0400
TZOFFSETTO:-0500
TZNAME:EST
DTSTART:20231105T060000
END:STANDARD
BEGIN:DAYLIGHT
TZOFFSETFROM:-0500
TZOFFSETTO:-0400
TZNAME:EDT
DTSTART:20240310T070000
END:DAYLIGHT
BEGIN:STANDARD
TZOFFSETFROM:-0400
TZOFFSETTO:-0500
TZNAME:EST
DTSTART:20241103T060000
END:STANDARD
BEGIN:DAYLIGHT
TZOFFSETFROM:-0500
TZOFFSETTO:-0400
TZNAME:EDT
DTSTART:20250309T070000
END:DAYLIGHT
BEGIN:STANDARD
TZOFFSETFROM:-0400
TZOFFSETTO:-0500
TZNAME:EST
DTSTART:20251102T060000
END:STANDARD
END:VTIMEZONE
BEGIN:VEVENT
DTSTART;TZID=America/New_York:20241119T094500
DTEND;TZID=America/New_York:20241119T123000
DTSTAMP:20260422T144942
CREATED:20241112T213605Z
LAST-MODIFIED:20241119T145720Z
UID:13574-1732009500-1732019400@wvculture.org
SUMMARY:Young People's Concert - People\, Places & Feelings in Music (Morgantown)
DESCRIPTION:People\, Places and Feelings in Music features a myriad of music that illustrates how music can represent characters in a story\, elements of nature\, and human emotions. Students will be transformed by the music of Brahms\, Bizet\, Ravel\, Strauss\, Respighi\, and Nicolai performed by the WV Symphony Orchestra\, led by Music Director Maurice Cohn. Evan Wu will be a featured pianist on this concert\, performing Mozart Piano Concerto No. 21\, first movement\, with the orchestra.
URL:https://wvculture.org/event/young-peoples-concert-people-places-feelings-in-music-morgantown/
LOCATION:Metropolitan Theater\, 373 High St\, Morgantown\, West Virginia\, 26505\, United States
ATTACH;FMTTYPE=image/jpeg:https://wvculture.org/wp-content/uploads/2024/11/WVSO_2024_YPC_FRONT_wText.jpg
END:VEVENT
END:VCALENDAR