BEGIN:VCALENDAR
VERSION:2.0
PRODID:-//West Virginia Culture Center - ECPv6.15.17.1//NONSGML v1.0//EN
CALSCALE:GREGORIAN
METHOD:PUBLISH
X-ORIGINAL-URL:https://wvculture.org
X-WR-CALDESC:Events for West Virginia Culture Center
REFRESH-INTERVAL;VALUE=DURATION:PT1H
X-Robots-Tag:noindex
X-PUBLISHED-TTL:PT1H
BEGIN:VTIMEZONE
TZID:America/New_York
BEGIN:DAYLIGHT
TZOFFSETFROM:-0500
TZOFFSETTO:-0400
TZNAME:EDT
DTSTART:20230312T070000
END:DAYLIGHT
BEGIN:STANDARD
TZOFFSETFROM:-0400
TZOFFSETTO:-0500
TZNAME:EST
DTSTART:20231105T060000
END:STANDARD
BEGIN:DAYLIGHT
TZOFFSETFROM:-0500
TZOFFSETTO:-0400
TZNAME:EDT
DTSTART:20240310T070000
END:DAYLIGHT
BEGIN:STANDARD
TZOFFSETFROM:-0400
TZOFFSETTO:-0500
TZNAME:EST
DTSTART:20241103T060000
END:STANDARD
BEGIN:DAYLIGHT
TZOFFSETFROM:-0500
TZOFFSETTO:-0400
TZNAME:EDT
DTSTART:20250309T070000
END:DAYLIGHT
BEGIN:STANDARD
TZOFFSETFROM:-0400
TZOFFSETTO:-0500
TZNAME:EST
DTSTART:20251102T060000
END:STANDARD
END:VTIMEZONE
BEGIN:VEVENT
DTSTART;TZID=America/New_York:20241118T094500
DTEND;TZID=America/New_York:20241118T123000
DTSTAMP:20260421T021559
CREATED:20241112T212953Z
LAST-MODIFIED:20241112T212953Z
UID:13572-1731923100-1731933000@wvculture.org
SUMMARY:Young People's Concert - People\, Places & Feelings in Music
DESCRIPTION:People\, Places and Feelings in Music features a myriad of music that illustrates how music can represent characters in a story\, elements of nature\, and human emotions. Students will be transformed by the music of Brahms\, Bizet\, Ravel\, Strauss\, Respighi\, and Nicolai performed by the WV Symphony Orchestra\, led by Music Director Maurice Cohn. Azalea Kelley will be special guest pianist performing Chopin’s Concerto in f minor\, 1st movement.
URL:https://wvculture.org/event/young-peoples-concert-people-places-feelings-in-music/
LOCATION:West Virginia Culture Center Theater\, 1900 Kanawha Blvd E\, Charleston\, West Virginia\, 25305
ATTACH;FMTTYPE=image/jpeg:https://wvculture.org/wp-content/uploads/2024/11/WVSO_2024_YPC_FRONT_wText.jpg
ORGANIZER;CN="WV Symphony Orchestra":MAILTO:info@wvsymphony.org
END:VEVENT
END:VCALENDAR