BEGIN:VCALENDAR
VERSION:2.0
PRODID:-//West Virginia Culture Center - ECPv6.15.17.1//NONSGML v1.0//EN
CALSCALE:GREGORIAN
METHOD:PUBLISH
X-ORIGINAL-URL:https://wvculture.org
X-WR-CALDESC:Events for West Virginia Culture Center
REFRESH-INTERVAL;VALUE=DURATION:PT1H
X-Robots-Tag:noindex
X-PUBLISHED-TTL:PT1H
BEGIN:VTIMEZONE
TZID:America/New_York
BEGIN:DAYLIGHT
TZOFFSETFROM:-0500
TZOFFSETTO:-0400
TZNAME:EDT
DTSTART:20230312T070000
END:DAYLIGHT
BEGIN:STANDARD
TZOFFSETFROM:-0400
TZOFFSETTO:-0500
TZNAME:EST
DTSTART:20231105T060000
END:STANDARD
BEGIN:DAYLIGHT
TZOFFSETFROM:-0500
TZOFFSETTO:-0400
TZNAME:EDT
DTSTART:20240310T070000
END:DAYLIGHT
BEGIN:STANDARD
TZOFFSETFROM:-0400
TZOFFSETTO:-0500
TZNAME:EST
DTSTART:20241103T060000
END:STANDARD
BEGIN:DAYLIGHT
TZOFFSETFROM:-0500
TZOFFSETTO:-0400
TZNAME:EDT
DTSTART:20250309T070000
END:DAYLIGHT
BEGIN:STANDARD
TZOFFSETFROM:-0400
TZOFFSETTO:-0500
TZNAME:EST
DTSTART:20251102T060000
END:STANDARD
END:VTIMEZONE
BEGIN:VEVENT
DTSTART;TZID=America/New_York:20241029T180000
DTEND;TZID=America/New_York:20241029T200000
DTSTAMP:20260422T130013
CREATED:20241025T192614Z
LAST-MODIFIED:20241025T192614Z
UID:13337-1730224800-1730232000@wvculture.org
SUMMARY:Department of Arts\, Culture & History Halloween Bash
DESCRIPTION:Join us at the Culture Center in Charleston for some family Halloween fun.  There will be games\, prizes and refreshments.  All activities will be free and open to everyone.  Dress up in your favorite costumes!
URL:https://wvculture.org/event/department-of-arts-culture-history-halloween-bash/
LOCATION:West Virginia Culture Center\, 1900 Kanawha Blvd E\, Building 9\, Charleston\, West Virginia\, 25305
ATTACH;FMTTYPE=image/jpeg:https://wvculture.org/wp-content/uploads/2024/10/464472597_1049320207203542_5932842404056076778_n.jpg
END:VEVENT
END:VCALENDAR